BEGIN:VCALENDAR
VERSION:2.0
PRODID:-//TYPO3/NONSGML Calendarize//EN
BEGIN:VEVENT
UID:calendarize-haeusliche-gewalt-erkennen
DTSTAMP:20260425T151632Z
DTSTART:20260428T160000Z
SUMMARY:Häusliche Gewalt erkennen
DESCRIPTION:Ursachen\nFormen der Gewalt\nFolgen für die ganze Familie\nWa
 rum geht sie nicht einfach?\nAn wen kann ich mich wenden?\nDer Vortrag ric
 htet sich an Menschen aller Geschlechter\, denn nur gemeinsam können wir 
 Gewalt an Frauen bekämpfen
X-ALT-DESC;FMTTYPE=text/html:<p>Ursachen</p>\n<p>Formen der Gewalt</p>\n<p
 >Folgen für die ganze Familie</p>\n<p>Warum geht sie nicht einfach?</p>\n
 <p>An wen kann ich mich wenden?</p>\n<p>Der Vortrag richtet sich an Mensch
 en aller Geschlechter\, denn nur gemeinsam können wir Gewalt an Frauen be
 kämpfen</p>
LOCATION:Frau Holle's Café Stübchen\, Unterstraße 103\, Bad Salzdetfurt
 h
END:VEVENT
END:VCALENDAR
